 BEGIN:VCALENDAR
VERSION:2.0
PRODID:-//eventon.com NONSGML v1.0//EN
CALSCALE:GREGORIAN
METHOD:PUBLISH
BEGIN:VEVENT
UID:69e8901f8d7ab
DTSTAMP:20260422T090847Z
DTSTART:20240531T170000Z
DTEND:20240531T215900Z
LOCATION:Kranhaus Schloßstraße 8\,  25336 Elmshorn
SUMMARY:Jazz am Freitag: Bikini Jackson
DESCRIPTION:Die Elmshorn-Hamburger Formation „Bikini Jackson“ gibt ein 
 Konzert im Kranhaus. Bikini Jackson\,  ein Jazzensemble\,  das eigene Songs
  spielt\,  die durch Funk-Rock beeinflusst sind. Der Sound der fünfköpfig
 en Band ist geprägt durch das druckvolle Spiel von Gitarre\,  Keyboards un
 d Saxophon. Felix Brümmer am Schlagzeug und Andreas Kraudzun am Bass sorge
 n für[..]\nhttps://www.kulturkombinatelmshorn.de/veranstaltungen/jazz-am-f
 reitag-bikini-jackson/
URL:https://www.kulturkombinatelmshorn.de/veranstaltungen/jazz-am-freitag-bikini-jackson/
END:VEVENT
END:VCALENDAR